BEGIN:VCALENDAR
VERSION:2.0
PRODID:-//thebluebench.org//NONSGML kigkonsult.se iCalcreator 2.30.10//
CALSCALE:GREGORIAN
METHOD:PUBLISH
UID:3d03354b-990f-4d51-ac8e-edbb04374f84
X-WR-CALDESC:Join us for our next Someone I Love workshop for Secondary Sur
 vivors (friends\, partners\, family\, loved ones) of sexual assault surviv
 ors on December 3rd\, 2016 from 9am to 12pm at our Denver Central Office.
 \nSuggested donation: $15\nFor more information call 303.329.9922 ext 302 
 or email bhauptman@thebluebench.org.
X-WR-RELCALID:209751fe7288be24c03a915c23a620fa
X-WR-TIMEZONE:America/Denver
BEGIN:VTIMEZONE
TZID:America/Denver
BEGIN:STANDARD
TZNAME:MST
DTSTART:20161106T020000
TZOFFSETFROM:-0600
TZOFFSETTO:-0700
RDATE:20171105T020000
END:STANDARD
BEGIN:DAYLIGHT
TZNAME:MDT
DTSTART:20160313T020000
TZOFFSETFROM:-0700
TZOFFSETTO:-0600
RDATE:20170312T020000
RDATE:20180311T020000
END:DAYLIGHT
END:VTIMEZONE
BEGIN:VEVENT
UID:70c3e568-be5a-4991-9648-7e290520b077
DTSTAMP:20260422T100550Z
DESCRIPTION:Join us for our next Someone I Love workshop for Secondary Surv
 ivors (friends\, partners\, family\, loved ones) of sexual assault survivo
 rs on December 3rd\, 2016 from 9am to 12pm at our Denver Central Office.\n
 Suggested donation: $15\nFor more information call 303.329.9922 ext 302 or
  email bhauptman@thebluebench.org.
DTSTART;TZID=America/Denver:20161203T090000
DTEND;TZID=America/Denver:20161203T120000
LOCATION:Denver Central Office
SUMMARY:Someone I Love Workshop
END:VEVENT
END:VCALENDAR
