BEGIN:VCALENDAR
VERSION:2.0
PRODID:-//thebluebench.org//NONSGML kigkonsult.se iCalcreator 2.30.10//
CALSCALE:GREGORIAN
METHOD:PUBLISH
UID:d5b1e49e-6dc5-4d96-bf43-92e2ff19e0ec
X-WR-CALDESC:Join us for our next Someone I Love workshop for Secondary Sur
 vivors (friends\, partners\, family\, loved ones) of sexual assault surviv
 ors on February 4th\, 2017 from 9am to 12pm at our Denver Central Office. 
 Light refreshments will be provided.\nPlease call for more information and
  to register for this workshop.\n\nSuggested donation: $15
X-WR-RELCALID:7364feb39c6e7833fd0859441c2b1afb
X-WR-TIMEZONE:America/Denver
BEGIN:VTIMEZONE
TZID:America/Denver
BEGIN:STANDARD
TZNAME:MST
DTSTART:20161106T020000
TZOFFSETFROM:-0600
TZOFFSETTO:-0700
RDATE:20171105T020000
END:STANDARD
BEGIN:DAYLIGHT
TZNAME:MDT
DTSTART:20160313T020000
TZOFFSETFROM:-0700
TZOFFSETTO:-0600
RDATE:20170312T020000
RDATE:20180311T020000
END:DAYLIGHT
END:VTIMEZONE
BEGIN:VEVENT
UID:fce7a4d2-9729-4311-b1cc-246c1956ae3b
DTSTAMP:20260420T065418Z
DESCRIPTION:Join us for our next Someone I Love workshop for Secondary Surv
 ivors (friends\, partners\, family\, loved ones) of sexual assault survivo
 rs on February 4th\, 2017 from 9am to 12pm at our Denver Central Office. L
 ight refreshments will be provided.\nPlease call for more information and 
 to register for this workshop.\n\nSuggested donation: $15
DTSTART;TZID=America/Denver:20170204T090000
DTEND;TZID=America/Denver:20170204T120000
LOCATION:Denver Central Office
SUMMARY:Someone I Love Workshop
END:VEVENT
END:VCALENDAR
