BEGIN:VCALENDAR
VERSION:2.0
PRODID:-//thebluebench.org//NONSGML kigkonsult.se iCalcreator 2.30.10//
CALSCALE:GREGORIAN
METHOD:PUBLISH
UID:ebe14d13-69e0-4aa6-9721-b31bca2e1a5a
X-WR-CALDESC:Every year\, The Blue Bench Thing brings the community togethe
 r for a night of music\, drinks\, food\, a silent auction and an inspiring
  showcase of support for sexual assault survivors. We invite you to help u
 s as we lift up The Blue Bench\, bring hope to survivors and empower each 
 other to continue the fight to end rape culture and sexual violence in Col
 orado. \n\nA $50 ticket includes two drinks\, heavy hors d'oeuvres\, aucti
 on access and a special concert by Treehouse Sanctum!\n\nThe Blue Bench Th
 ing\nApril 26th\, 2017\n5:30-7:30 PM\nThe Rackhouse Pub/C Squared Ciders\n
 2875 Blake St. \nDenver\, CO 80205\n
X-WR-RELCALID:7f832770189c153f5d97710a36361098
X-WR-TIMEZONE:America/Denver
BEGIN:VTIMEZONE
TZID:America/Denver
BEGIN:STANDARD
TZNAME:MST
DTSTART:20161106T020000
TZOFFSETFROM:-0600
TZOFFSETTO:-0700
RDATE:20171105T020000
END:STANDARD
BEGIN:DAYLIGHT
TZNAME:MDT
DTSTART:20170312T020000
TZOFFSETFROM:-0700
TZOFFSETTO:-0600
RDATE:20180311T020000
END:DAYLIGHT
END:VTIMEZONE
BEGIN:VEVENT
UID:68738955-2332-47c5-9f0b-f41ce2ef473d
DTSTAMP:20260420T041820Z
DESCRIPTION:Every year\, The Blue Bench Thing brings the community together
  for a night of music\, drinks\, food\, a silent auction and an inspiring 
 showcase of support for sexual assault survivors. We invite you to help us
  as we lift up The Blue Bench\, bring hope to survivors and empower each o
 ther to continue the fight to end rape culture and sexual violence in Colo
 rado. \n\nA $50 ticket includes two drinks\, heavy hors d'oeuvres\, auctio
 n access and a special concert by Treehouse Sanctum!\n\nThe Blue Bench Thi
 ng\nApril 26th\, 2017\n5:30-7:30 PM\nThe Rackhouse Pub/C Squared Ciders\n2
 875 Blake St. \nDenver\, CO 80205\n
DTSTART;TZID=America/Denver:20170426T173000
DTEND;TZID=America/Denver:20170426T203000
LOCATION:The Rackhouse Pub/ C Squared Ciders
SUMMARY:The Blue Bench Thing
END:VEVENT
END:VCALENDAR
