BEGIN:VCALENDAR
VERSION:2.0
PRODID:-//thebluebench.org//NONSGML kigkonsult.se iCalcreator 2.30.10//
CALSCALE:GREGORIAN
METHOD:PUBLISH
UID:1e3f3531-51af-422f-94ed-3971dd331354
X-WR-CALDESC:Join us for our next Someone I Love workshop for Secondary Sur
 vivors (friends\, partners\, family\, loved ones) of sexual assault surviv
 ors on May 6th\, 2017 from 9AM to 12PM at our Denver Central Office. Light
  refreshments will be provided.\nPlease call for more information and to r
 egister for this workshop.\n\nSuggested donation: $15
X-WR-RELCALID:6bd79e6a0876548b98374a050bfd8eb0
X-WR-TIMEZONE:America/Denver
BEGIN:VTIMEZONE
TZID:America/Denver
BEGIN:STANDARD
TZNAME:MST
DTSTART:20161106T020000
TZOFFSETFROM:-0600
TZOFFSETTO:-0700
RDATE:20171105T020000
RDATE:20181104T020000
END:STANDARD
BEGIN:DAYLIGHT
TZNAME:MDT
DTSTART:20170312T020000
TZOFFSETFROM:-0700
TZOFFSETTO:-0600
RDATE:20180311T020000
END:DAYLIGHT
END:VTIMEZONE
BEGIN:VEVENT
UID:29d76112-7b61-4ab8-8260-2c71b8fe66f5
DTSTAMP:20260420T025147Z
DESCRIPTION:Join us for our next Someone I Love workshop for Secondary Surv
 ivors (friends\, partners\, family\, loved ones) of sexual assault survivo
 rs on May 6th\, 2017 from 9AM to 12PM at our Denver Central Office. Light 
 refreshments will be provided.\nPlease call for more information and to re
 gister for this workshop.\n\nSuggested donation: $15
DTSTART;TZID=America/Denver:20170506T090000
DTEND;TZID=America/Denver:20170506T120000
LOCATION:Denver Central Office
SUMMARY:Someone I Love Workshop
END:VEVENT
END:VCALENDAR
