BEGIN:VCALENDAR
VERSION:2.0
PRODID:-//thebluebench.org//NONSGML kigkonsult.se iCalcreator 2.30.10//
CALSCALE:GREGORIAN
METHOD:PUBLISH
UID:52b5d0c6-bc50-4baf-9bef-8542615a8e3e
X-WR-CALDESC:Join us for our next Someone I Love workshop for Secondary Sur
 vivors (friends\, partners\, family\, loved ones) of sexual assault surviv
 ors on June 27th\, 2017 from 6PM to 9PM at our Denver Central Office. Ligh
 t refreshments will be provided.\nPlease call for more information and to 
 register for this workshop.\n\nSuggested donation: $15
X-WR-RELCALID:4c96bda9dd206a0d0a1581f2c051268f
X-WR-TIMEZONE:America/Denver
BEGIN:VTIMEZONE
TZID:America/Denver
BEGIN:STANDARD
TZNAME:MST
DTSTART:20161106T020000
TZOFFSETFROM:-0600
TZOFFSETTO:-0700
RDATE:20171105T020000
RDATE:20181104T020000
END:STANDARD
BEGIN:DAYLIGHT
TZNAME:MDT
DTSTART:20170312T020000
TZOFFSETFROM:-0700
TZOFFSETTO:-0600
RDATE:20180311T020000
END:DAYLIGHT
END:VTIMEZONE
BEGIN:VEVENT
UID:254ff80c-7b90-4494-9bb7-fb3d59f0b0ab
DTSTAMP:20260420T013239Z
DESCRIPTION:Join us for our next Someone I Love workshop for Secondary Surv
 ivors (friends\, partners\, family\, loved ones) of sexual assault survivo
 rs on June 27th\, 2017 from 6PM to 9PM at our Denver Central Office. Light
  refreshments will be provided.\nPlease call for more information and to r
 egister for this workshop.\n\nSuggested donation: $15
DTSTART;TZID=America/Denver:20170627T180000
DTEND;TZID=America/Denver:20170627T210000
LOCATION:Denver Central Office
SUMMARY:Someone I Love Workshop
END:VEVENT
END:VCALENDAR
