BEGIN:VCALENDAR
VERSION:2.0
PRODID:-//thebluebench.org//NONSGML kigkonsult.se iCalcreator 2.30.10//
CALSCALE:GREGORIAN
METHOD:PUBLISH
UID:4ebab8ee-fd31-4914-bfa0-2d98917fb038
X-WR-CALDESC:Join us for our next Someone I Love workshop for Secondary Sur
 vivors (friends\, partners\, family\, loved ones) of sexual assault surviv
 ors on August 5th\, from 9AM to 12PM at our Denver Central Office. Light r
 efreshments will be provided.\nPlease call for more information and to reg
 ister for this workshop.\n\nSuggested donation: $15
X-WR-RELCALID:2a3e117947d17a79825df33c968228ac
X-WR-TIMEZONE:America/Denver
BEGIN:VTIMEZONE
TZID:America/Denver
BEGIN:STANDARD
TZNAME:MST
DTSTART:20161106T020000
TZOFFSETFROM:-0600
TZOFFSETTO:-0700
RDATE:20171105T020000
RDATE:20181104T020000
END:STANDARD
BEGIN:DAYLIGHT
TZNAME:MDT
DTSTART:20170312T020000
TZOFFSETFROM:-0700
TZOFFSETTO:-0600
RDATE:20180311T020000
END:DAYLIGHT
END:VTIMEZONE
BEGIN:VEVENT
UID:a6ec5e99-e58e-48f5-9c97-32f5c3f26c8c
DTSTAMP:20260419T224218Z
DESCRIPTION:Join us for our next Someone I Love workshop for Secondary Surv
 ivors (friends\, partners\, family\, loved ones) of sexual assault survivo
 rs on August 5th\, from 9AM to 12PM at our Denver Central Office. Light re
 freshments will be provided.\nPlease call for more information and to regi
 ster for this workshop.\n\nSuggested donation: $15
DTSTART;TZID=America/Denver:20170805T090000
DTEND;TZID=America/Denver:20170805T120000
LOCATION:Denver Central Office
SUMMARY:Someone I Love Workshop
END:VEVENT
END:VCALENDAR
