BEGIN:VCALENDAR
VERSION:2.0
PRODID:-//thebluebench.org//NONSGML kigkonsult.se iCalcreator 2.30.10//
CALSCALE:GREGORIAN
METHOD:PUBLISH
UID:a18cbb8a-6247-4167-bdec-026c6f3608f1
X-WR-CALDESC:Wow! We are so excited to announce that The 11th Annual Heart 
 of the Matter Golf Tournament is sold out! If you weren't able to register
  this year\, there are still a few ways to get involved:\n\nEmail Olivia (
 contact below) to join the waiting list. In the case of a player cancellat
 ion\, we'll call you to fill the spot. First come\, first serve.\n\nVolunt
 eer! We still have a few slots for those who want to come staff a hole dur
 ing the tournament. Breakfast\, snacks\, lunch and a polo are included. Em
 ail Olivia (contact below) if you're interested and available from 7AM-1PM
 .\n\nDonate. For the past decade\, this tournament has been one of our mos
 t successful ways to raise funds for survivor services and community-wide 
 sexual assault prevention programming. You can still make a big difference
  to the cause...no mulligans necessary.\n\n
X-WR-RELCALID:4382cf85500cd23d3464fa29706bdb6a
X-WR-TIMEZONE:America/Denver
BEGIN:VTIMEZONE
TZID:America/Denver
BEGIN:STANDARD
TZNAME:MST
DTSTART:20161106T020000
TZOFFSETFROM:-0600
TZOFFSETTO:-0700
RDATE:20171105T020000
RDATE:20181104T020000
END:STANDARD
BEGIN:DAYLIGHT
TZNAME:MDT
DTSTART:20170312T020000
TZOFFSETFROM:-0700
TZOFFSETTO:-0600
RDATE:20180311T020000
END:DAYLIGHT
END:VTIMEZONE
BEGIN:VEVENT
UID:55d49b8f-232c-42fa-8895-eaa52b9fcb79
DTSTAMP:20260419T224934Z
DESCRIPTION:Wow! We are so excited to announce that The 11th Annual Heart o
 f the Matter Golf Tournament is sold out! If you weren't able to register 
 this year\, there are still a few ways to get involved:\n\nEmail Olivia (c
 ontact below) to join the waiting list. In the case of a player cancellati
 on\, we'll call you to fill the spot. First come\, first serve.\n\nVolunte
 er! We still have a few slots for those who want to come staff a hole duri
 ng the tournament. Breakfast\, snacks\, lunch and a polo are included. Ema
 il Olivia (contact below) if you're interested and available from 7AM-1PM.
 \n\nDonate. For the past decade\, this tournament has been one of our most
  successful ways to raise funds for survivor services and community-wide s
 exual assault prevention programming. You can still make a big difference 
 to the cause...no mulligans necessary.\n\n
DTSTART;TZID=America/Denver:20170811T074500
DTEND;TZID=America/Denver:20170811T130000
LOCATION:The Homestead at Fox Hollow Golf Course
SUMMARY:11th Annual Heart of the Matter Golf Tournament
END:VEVENT
END:VCALENDAR
