BEGIN:VCALENDAR
VERSION:2.0
PRODID:-//thebluebench.org//NONSGML kigkonsult.se iCalcreator 2.30.10//
CALSCALE:GREGORIAN
METHOD:PUBLISH
UID:c3f1a937-ab03-4d55-b410-805071080c75
X-WR-CALDESC:Join us for our next Someone I Love workshop for Secondary Sur
 vivors (friends\, partners\, family\, loved ones) of sexual assault surviv
 ors on September 20th from 6-9PM at our Denver Central Office. Light refre
 shments will be provided.\nPlease call for more information and to registe
 r for this workshop.\n\nSuggested donation: $15
X-WR-RELCALID:14d80d0fdcacf29e77646ff459befac1
X-WR-TIMEZONE:America/Denver
BEGIN:VTIMEZONE
TZID:America/Denver
BEGIN:STANDARD
TZNAME:MST
DTSTART:20161106T020000
TZOFFSETFROM:-0600
TZOFFSETTO:-0700
RDATE:20171105T020000
RDATE:20181104T020000
END:STANDARD
BEGIN:DAYLIGHT
TZNAME:MDT
DTSTART:20170312T020000
TZOFFSETFROM:-0700
TZOFFSETTO:-0600
RDATE:20180311T020000
RDATE:20190310T020000
END:DAYLIGHT
END:VTIMEZONE
BEGIN:VEVENT
UID:748eaed0-e29a-4096-a5dc-8da8636d9999
DTSTAMP:20260419T212733Z
DESCRIPTION:Join us for our next Someone I Love workshop for Secondary Surv
 ivors (friends\, partners\, family\, loved ones) of sexual assault survivo
 rs on September 20th from 6-9PM at our Denver Central Office. Light refres
 hments will be provided.\nPlease call for more information and to register
  for this workshop.\n\nSuggested donation: $15
DTSTART;TZID=America/Denver:20170920T180000
DTEND;TZID=America/Denver:20170920T210000
LOCATION:Denver Central Office
SUMMARY:Someone I Love Workshop
END:VEVENT
END:VCALENDAR
