BEGIN:VCALENDAR
VERSION:2.0
PRODID:-//thebluebench.org//NONSGML kigkonsult.se iCalcreator 2.30.10//
CALSCALE:GREGORIAN
METHOD:PUBLISH
UID:2f0c5704-253f-4f4e-bb9f-b4a0d5e0a97e
X-WR-CALDESC:Join us for our next Someone I Love workshop for Secondary Sur
 vivors (friends\, partners\, family\, loved ones) of sexual assault surviv
 ors on February 8th from 6PM to 9PM at our Denver Central Office. Light re
 freshments will be provided.\nPlease call for more information and to regi
 ster for this workshop.\n\nSuggested donation: $15
X-WR-RELCALID:54744986201771399ecb08ab6dc5a3c7
X-WR-TIMEZONE:America/Denver
BEGIN:VTIMEZONE
TZID:America/Denver
BEGIN:STANDARD
TZNAME:MST
DTSTART:20171105T020000
TZOFFSETFROM:-0600
TZOFFSETTO:-0700
RDATE:20181104T020000
END:STANDARD
BEGIN:DAYLIGHT
TZNAME:MDT
DTSTART:20170312T020000
TZOFFSETFROM:-0700
TZOFFSETTO:-0600
RDATE:20180311T020000
RDATE:20190310T020000
END:DAYLIGHT
END:VTIMEZONE
BEGIN:VEVENT
UID:c81303a6-4a00-42b6-bf52-6574fe8cdb94
DTSTAMP:20260419T142133Z
DESCRIPTION:Join us for our next Someone I Love workshop for Secondary Surv
 ivors (friends\, partners\, family\, loved ones) of sexual assault survivo
 rs on February 8th from 6PM to 9PM at our Denver Central Office. Light ref
 reshments will be provided.\nPlease call for more information and to regis
 ter for this workshop.\n\nSuggested donation: $15
DTSTART;TZID=America/Denver:20180208T180000
DTEND;TZID=America/Denver:20180208T210000
LOCATION:Denver Central Office
SUMMARY:Someone I Love Workshop
END:VEVENT
END:VCALENDAR
