BEGIN:VCALENDAR
VERSION:2.0
PRODID:-//thebluebench.org//NONSGML kigkonsult.se iCalcreator 2.30.10//
CALSCALE:GREGORIAN
METHOD:PUBLISH
UID:ccb2340d-2dd7-4b16-aa2e-5d9d87437f92
X-WR-CALDESC:Canvassers will be in your neighborhood tonight
X-WR-RELCALID:e8dcc07898ac987ecd3934233fd2c2ae
X-WR-TIMEZONE:America/Denver
BEGIN:VTIMEZONE
TZID:America/Denver
BEGIN:STANDARD
TZNAME:MST
DTSTART:20171105T020000
TZOFFSETFROM:-0600
TZOFFSETTO:-0700
RDATE:20181104T020000
END:STANDARD
BEGIN:DAYLIGHT
TZNAME:MDT
DTSTART:20170312T020000
TZOFFSETFROM:-0700
TZOFFSETTO:-0600
RDATE:20180311T020000
RDATE:20190310T020000
END:DAYLIGHT
END:VTIMEZONE
BEGIN:VEVENT
UID:e1c755d3-5140-41b2-b3f7-184fea9488b6
DTSTAMP:20260419T142216Z
DESCRIPTION:Canvassers will be in your neighborhood tonight
DTSTART;TZID=America/Denver:20180212T160000
DTEND;TZID=America/Denver:20180212T210000
LOCATION:Broomfield
SUMMARY:80021:Canvassing
END:VEVENT
END:VCALENDAR
