BEGIN:VCALENDAR
VERSION:2.0
PRODID:-//thebluebench.org//NONSGML kigkonsult.se iCalcreator 2.30.10//
CALSCALE:GREGORIAN
METHOD:PUBLISH
UID:93d9aa62-f486-4143-adb0-2b1047c9b80c
X-WR-CALDESC:Canvassers will be in your neighborhood tonight
X-WR-RELCALID:1a7295e8540aa0adf3edf078ab2ac676
X-WR-TIMEZONE:America/Denver
BEGIN:VTIMEZONE
TZID:America/Denver
BEGIN:STANDARD
TZNAME:MST
DTSTART:20171105T020000
TZOFFSETFROM:-0600
TZOFFSETTO:-0700
RDATE:20181104T020000
END:STANDARD
BEGIN:DAYLIGHT
TZNAME:MDT
DTSTART:20170312T020000
TZOFFSETFROM:-0700
TZOFFSETTO:-0600
RDATE:20180311T020000
RDATE:20190310T020000
END:DAYLIGHT
END:VTIMEZONE
BEGIN:VEVENT
UID:f4dcae2a-6dbb-4d18-83b1-ac1ae353128e
DTSTAMP:20260419T142255Z
DESCRIPTION:Canvassers will be in your neighborhood tonight
DTSTART;TZID=America/Denver:20180219T160000
DTEND;TZID=America/Denver:20180219T210000
LOCATION:Denver/Glendale
SUMMARY:80207/219/246:Canvassing
END:VEVENT
END:VCALENDAR
