BEGIN:VCALENDAR
VERSION:2.0
PRODID:-//thebluebench.org//NONSGML kigkonsult.se iCalcreator 2.30.10//
CALSCALE:GREGORIAN
METHOD:PUBLISH
UID:343166c4-a5db-423d-999f-94fa4d2ae7d1
X-WR-CALDESC:Canvassers will be in your neighborhood tonight
X-WR-RELCALID:042434005b53886b227d2ac7294f7c82
X-WR-TIMEZONE:America/Denver
BEGIN:VTIMEZONE
TZID:America/Denver
BEGIN:STANDARD
TZNAME:MST
DTSTART:20171105T020000
TZOFFSETFROM:-0600
TZOFFSETTO:-0700
RDATE:20181104T020000
END:STANDARD
BEGIN:DAYLIGHT
TZNAME:MDT
DTSTART:20170312T020000
TZOFFSETFROM:-0700
TZOFFSETTO:-0600
RDATE:20180311T020000
RDATE:20190310T020000
END:DAYLIGHT
END:VTIMEZONE
BEGIN:VEVENT
UID:7b4b78fd-f3aa-4ac4-b700-8a4360f5e529
DTSTAMP:20260419T142342Z
DESCRIPTION:Canvassers will be in your neighborhood tonight
DTSTART;TZID=America/Denver:20180220T160000
DTEND;TZID=America/Denver:20180220T210000
LOCATION:Broomfield
SUMMARY:80021:Canvassing
END:VEVENT
END:VCALENDAR
