BEGIN:VCALENDAR
VERSION:2.0
PRODID:-//thebluebench.org//NONSGML kigkonsult.se iCalcreator 2.30.10//
CALSCALE:GREGORIAN
METHOD:PUBLISH
UID:41d8e2ce-2c70-4f50-833c-93db57a8f9b4
X-WR-CALDESC:Canvassers will be in your neighborhood tonight
X-WR-RELCALID:7b6ec0d1c875cb60af08586007d975b1
X-WR-TIMEZONE:America/Denver
BEGIN:VTIMEZONE
TZID:America/Denver
BEGIN:STANDARD
TZNAME:MST
DTSTART:20171105T020000
TZOFFSETFROM:-0600
TZOFFSETTO:-0700
RDATE:20181104T020000
END:STANDARD
BEGIN:DAYLIGHT
TZNAME:MDT
DTSTART:20170312T020000
TZOFFSETFROM:-0700
TZOFFSETTO:-0600
RDATE:20180311T020000
RDATE:20190310T020000
END:DAYLIGHT
END:VTIMEZONE
BEGIN:VEVENT
UID:9af4e40b-35d3-480c-a0f4-d35e8751a8a9
DTSTAMP:20260419T143248Z
DESCRIPTION:Canvassers will be in your neighborhood tonight
DTSTART;TZID=America/Denver:20180221T160000
DTEND;TZID=America/Denver:20180221T210000
LOCATION:Aurora
SUMMARY:80016:Canvassing
END:VEVENT
END:VCALENDAR
