BEGIN:VCALENDAR
VERSION:2.0
PRODID:-//thebluebench.org//NONSGML kigkonsult.se iCalcreator 2.30.10//
CALSCALE:GREGORIAN
METHOD:PUBLISH
UID:028c8359-891a-4447-ac18-75b9fd4d42b0
X-WR-CALDESC:Canvassers will be in your neighborhood tonight
X-WR-RELCALID:568f30c9887fddc6c3c166dea5425145
X-WR-TIMEZONE:America/Denver
BEGIN:VTIMEZONE
TZID:America/Denver
BEGIN:STANDARD
TZNAME:MST
DTSTART:20171105T020000
TZOFFSETFROM:-0600
TZOFFSETTO:-0700
RDATE:20181104T020000
END:STANDARD
BEGIN:DAYLIGHT
TZNAME:MDT
DTSTART:20170312T020000
TZOFFSETFROM:-0700
TZOFFSETTO:-0600
RDATE:20180311T020000
RDATE:20190310T020000
END:DAYLIGHT
END:VTIMEZONE
BEGIN:VEVENT
UID:9b86abc5-3b9b-46f7-81c0-6c3917d8168c
DTSTAMP:20260419T142812Z
DESCRIPTION:Canvassers will be in your neighborhood tonight
DTSTART;TZID=America/Denver:20180227T160000
DTEND;TZID=America/Denver:20180227T210000
LOCATION:Denver
SUMMARY:80219223:Canvassing
END:VEVENT
END:VCALENDAR
