BEGIN:VCALENDAR
VERSION:2.0
PRODID:-//thebluebench.org//NONSGML kigkonsult.se iCalcreator 2.30.10//
CALSCALE:GREGORIAN
METHOD:PUBLISH
UID:7447e9dc-5175-4a54-a3c8-de0bba323b11
X-WR-CALDESC:Canvassers will be in your neighborhood tonight
X-WR-RELCALID:f48a73d012a32276f60a7cdc7c599093
X-WR-TIMEZONE:America/Denver
BEGIN:VTIMEZONE
TZID:America/Denver
BEGIN:STANDARD
TZNAME:MST
DTSTART:20171105T020000
TZOFFSETFROM:-0600
TZOFFSETTO:-0700
RDATE:20181104T020000
END:STANDARD
BEGIN:DAYLIGHT
TZNAME:MDT
DTSTART:20170312T020000
TZOFFSETFROM:-0700
TZOFFSETTO:-0600
RDATE:20180311T020000
RDATE:20190310T020000
END:DAYLIGHT
END:VTIMEZONE
BEGIN:VEVENT
UID:f3b442c5-fd25-4d22-8684-4293b95965ac
DTSTAMP:20260419T142353Z
DESCRIPTION:Canvassers will be in your neighborhood tonight
DTSTART;TZID=America/Denver:20180228T160000
DTEND;TZID=America/Denver:20180228T210000
LOCATION:Thornton
SUMMARY:80241: Canvassing
END:VEVENT
END:VCALENDAR
