BEGIN:VCALENDAR
VERSION:2.0
PRODID:-//thebluebench.org//NONSGML kigkonsult.se iCalcreator 2.30.10//
CALSCALE:GREGORIAN
METHOD:PUBLISH
UID:4aaefeee-40e6-46cc-a6ac-c87bc7041287
X-WR-CALDESC:Canvassers will be in your neighborhood tonight
X-WR-RELCALID:5928738d42234feae5411dc02c000d6c
X-WR-TIMEZONE:America/Denver
BEGIN:VTIMEZONE
TZID:America/Denver
BEGIN:STANDARD
TZNAME:MST
DTSTART:20171105T020000
TZOFFSETFROM:-0600
TZOFFSETTO:-0700
RDATE:20181104T020000
END:STANDARD
BEGIN:DAYLIGHT
TZNAME:MDT
DTSTART:20170312T020000
TZOFFSETFROM:-0700
TZOFFSETTO:-0600
RDATE:20180311T020000
RDATE:20190310T020000
END:DAYLIGHT
END:VTIMEZONE
BEGIN:VEVENT
UID:4b7ce095-8b6e-4235-b0b5-dd7a9111800e
DTSTAMP:20260419T131643Z
DESCRIPTION:Canvassers will be in your neighborhood tonight
DTSTART;TZID=America/Denver:20180301T160000
DTEND;TZID=America/Denver:20180301T210000
LOCATION:Aurora/Arvada
SUMMARY:80016/80004:Canvassing
END:VEVENT
END:VCALENDAR
