BEGIN:VCALENDAR
VERSION:2.0
PRODID:-//thebluebench.org//NONSGML kigkonsult.se iCalcreator 2.30.10//
CALSCALE:GREGORIAN
METHOD:PUBLISH
UID:cd889373-56e1-4c5b-9643-ec0215d7e284
X-WR-CALDESC:Canvassers will be in your neighborhood tonight
X-WR-RELCALID:58c73a19a2be7baa41c5aa07d37034a9
X-WR-TIMEZONE:America/Denver
BEGIN:VTIMEZONE
TZID:America/Denver
BEGIN:STANDARD
TZNAME:MST
DTSTART:20171105T020000
TZOFFSETFROM:-0600
TZOFFSETTO:-0700
RDATE:20181104T020000
END:STANDARD
BEGIN:DAYLIGHT
TZNAME:MDT
DTSTART:20170312T020000
TZOFFSETFROM:-0700
TZOFFSETTO:-0600
RDATE:20180311T020000
RDATE:20190310T020000
END:DAYLIGHT
END:VTIMEZONE
BEGIN:VEVENT
UID:f8cad2c8-6a75-4735-89a7-b33ba1b612c3
DTSTAMP:20260419T131039Z
DESCRIPTION:Canvassers will be in your neighborhood tonight
DTSTART;TZID=America/Denver:20180302T160000
DTEND;TZID=America/Denver:20180302T210000
LOCATION:Arvada
SUMMARY:80004:Canvassing
END:VEVENT
END:VCALENDAR
