BEGIN:VCALENDAR
VERSION:2.0
PRODID:-//thebluebench.org//NONSGML kigkonsult.se iCalcreator 2.30.10//
CALSCALE:GREGORIAN
METHOD:PUBLISH
UID:cf0976d7-6b1c-48f3-872d-5b1dbc4e6d33
X-WR-CALDESC:Canvassers will be in your neighborhood tonight
X-WR-RELCALID:71173e3110f9f4234ba08719f8aacf87
X-WR-TIMEZONE:America/Denver
BEGIN:VTIMEZONE
TZID:America/Denver
BEGIN:STANDARD
TZNAME:MST
DTSTART:20171105T020000
TZOFFSETFROM:-0600
TZOFFSETTO:-0700
RDATE:20181104T020000
END:STANDARD
BEGIN:DAYLIGHT
TZNAME:MDT
DTSTART:20170312T020000
TZOFFSETFROM:-0700
TZOFFSETTO:-0600
RDATE:20180311T020000
RDATE:20190310T020000
END:DAYLIGHT
END:VTIMEZONE
BEGIN:VEVENT
UID:ee7c2b11-c0ee-480d-be7f-5accbe49ed9f
DTSTAMP:20260419T130822Z
DESCRIPTION:Canvassers will be in your neighborhood tonight
DTSTART;TZID=America/Denver:20180309T160000
DTEND;TZID=America/Denver:20180309T210000
LOCATION:Arvada
SUMMARY:80004:Canvassing
END:VEVENT
END:VCALENDAR
