BEGIN:VCALENDAR
VERSION:2.0
PRODID:-//thebluebench.org//NONSGML kigkonsult.se iCalcreator 2.30.10//
CALSCALE:GREGORIAN
METHOD:PUBLISH
UID:a42214c4-2ab7-4aa7-9771-4bc650282575
X-WR-CALDESC:Canvassers will be in your neighborhood tonight
X-WR-RELCALID:1772d8b073e03fb58fa627e76b10a2a3
X-WR-TIMEZONE:America/Denver
BEGIN:VTIMEZONE
TZID:America/Denver
BEGIN:STANDARD
TZNAME:MST
DTSTART:20171105T020000
TZOFFSETFROM:-0600
TZOFFSETTO:-0700
RDATE:20181104T020000
END:STANDARD
BEGIN:DAYLIGHT
TZNAME:MDT
DTSTART:20170312T020000
TZOFFSETFROM:-0700
TZOFFSETTO:-0600
RDATE:20180311T020000
RDATE:20190310T020000
END:DAYLIGHT
END:VTIMEZONE
BEGIN:VEVENT
UID:50d27c6c-5e17-4df0-8baf-01bc4f637a8f
DTSTAMP:20260419T131116Z
DESCRIPTION:Canvassers will be in your neighborhood tonight
DTSTART;TZID=America/Denver:20180312T160000
DTEND;TZID=America/Denver:20180312T210000
LOCATION:Thornton
SUMMARY:80241: Canvassing
END:VEVENT
END:VCALENDAR
