BEGIN:VCALENDAR
VERSION:2.0
PRODID:-//thebluebench.org//NONSGML kigkonsult.se iCalcreator 2.30.10//
CALSCALE:GREGORIAN
METHOD:PUBLISH
UID:24413fbb-9a74-4c69-9fc9-7eae93b5cb55
X-WR-CALDESC:Canvassers will be in your neighborhood tonight
X-WR-RELCALID:f336549052df4065d6b5de50241751dc
X-WR-TIMEZONE:America/Denver
BEGIN:VTIMEZONE
TZID:America/Denver
BEGIN:STANDARD
TZNAME:MST
DTSTART:20171105T020000
TZOFFSETFROM:-0600
TZOFFSETTO:-0700
RDATE:20181104T020000
END:STANDARD
BEGIN:DAYLIGHT
TZNAME:MDT
DTSTART:20180311T020000
TZOFFSETFROM:-0700
TZOFFSETTO:-0600
RDATE:20190310T020000
END:DAYLIGHT
END:VTIMEZONE
BEGIN:VEVENT
UID:e7691d4a-bb6e-46ab-8d0a-96dbde5ac360
DTSTAMP:20260419T131643Z
DESCRIPTION:Canvassers will be in your neighborhood tonight
DTSTART;TZID=America/Denver:20180313T160000
DTEND;TZID=America/Denver:20180313T210000
LOCATION:Arvada
SUMMARY:80004:Canvassing
END:VEVENT
END:VCALENDAR
