BEGIN:VCALENDAR
VERSION:2.0
PRODID:-//thebluebench.org//NONSGML kigkonsult.se iCalcreator 2.30.10//
CALSCALE:GREGORIAN
METHOD:PUBLISH
UID:b9a57f5c-a83c-4b64-86f3-f6cf69b63e50
X-WR-CALDESC:Canvassers will be in your neighborhood tonight
X-WR-RELCALID:9379c0067184645ba5c9a0146ecdb18b
X-WR-TIMEZONE:America/Denver
BEGIN:VTIMEZONE
TZID:America/Denver
BEGIN:STANDARD
TZNAME:MST
DTSTART:20171105T020000
TZOFFSETFROM:-0600
TZOFFSETTO:-0700
RDATE:20181104T020000
END:STANDARD
BEGIN:DAYLIGHT
TZNAME:MDT
DTSTART:20180311T020000
TZOFFSETFROM:-0700
TZOFFSETTO:-0600
RDATE:20190310T020000
END:DAYLIGHT
END:VTIMEZONE
BEGIN:VEVENT
UID:ceb52b13-9e7f-441e-b4ef-f5831fa0c93a
DTSTAMP:20260419T131547Z
DESCRIPTION:Canvassers will be in your neighborhood tonight
DTSTART;TZID=America/Denver:20180314T160000
DTEND;TZID=America/Denver:20180314T210000
LOCATION:Aurora/Thornton
SUMMARY:80016/80241: Canvassing
END:VEVENT
END:VCALENDAR
