BEGIN:VCALENDAR
VERSION:2.0
PRODID:-//thebluebench.org//NONSGML kigkonsult.se iCalcreator 2.30.10//
CALSCALE:GREGORIAN
METHOD:PUBLISH
UID:2c4bad7c-9ecb-4405-a609-c02dbefcebe5
X-WR-CALDESC:Canvassers will be in your neighborhood tonight
X-WR-RELCALID:d7e607a8a729c0b8acaa726857e3c032
X-WR-TIMEZONE:America/Denver
BEGIN:VTIMEZONE
TZID:America/Denver
BEGIN:STANDARD
TZNAME:MST
DTSTART:20171105T020000
TZOFFSETFROM:-0600
TZOFFSETTO:-0700
RDATE:20181104T020000
END:STANDARD
BEGIN:DAYLIGHT
TZNAME:MDT
DTSTART:20180311T020000
TZOFFSETFROM:-0700
TZOFFSETTO:-0600
RDATE:20190310T020000
END:DAYLIGHT
END:VTIMEZONE
BEGIN:VEVENT
UID:80eb1e93-1db4-4646-8add-2601c7f630b3
DTSTAMP:20260419T131116Z
DESCRIPTION:Canvassers will be in your neighborhood tonight
DTSTART;TZID=America/Denver:20180315T160000
DTEND;TZID=America/Denver:20180315T210000
LOCATION:Arvada
SUMMARY:80004:Canvassing
END:VEVENT
END:VCALENDAR
