BEGIN:VCALENDAR
VERSION:2.0
PRODID:-//thebluebench.org//NONSGML kigkonsult.se iCalcreator 2.30.10//
CALSCALE:GREGORIAN
METHOD:PUBLISH
UID:e0e88509-900d-4592-ae24-0d55dd660017
X-WR-CALDESC:Canvassers will be in your neighborhood tonight
X-WR-RELCALID:ad6a6342b1a69272378fb1aefb421aef
X-WR-TIMEZONE:America/Denver
BEGIN:VTIMEZONE
TZID:America/Denver
BEGIN:STANDARD
TZNAME:MST
DTSTART:20171105T020000
TZOFFSETFROM:-0600
TZOFFSETTO:-0700
RDATE:20181104T020000
END:STANDARD
BEGIN:DAYLIGHT
TZNAME:MDT
DTSTART:20180311T020000
TZOFFSETFROM:-0700
TZOFFSETTO:-0600
RDATE:20190310T020000
END:DAYLIGHT
END:VTIMEZONE
BEGIN:VEVENT
UID:76855600-2e58-47f8-8fbb-27f8e8c60688
DTSTAMP:20260419T130910Z
DESCRIPTION:Canvassers will be in your neighborhood tonight
DTSTART;TZID=America/Denver:20180316T160000
DTEND;TZID=America/Denver:20180316T210000
LOCATION:Green Valley Ranch
SUMMARY:80249:Canvassing
END:VEVENT
END:VCALENDAR
