BEGIN:VCALENDAR
VERSION:2.0
PRODID:-//thebluebench.org//NONSGML kigkonsult.se iCalcreator 2.30.10//
CALSCALE:GREGORIAN
METHOD:PUBLISH
UID:eb3f4a9a-6cb4-4408-b2a5-a06ae14ab00d
X-WR-CALDESC:Canvassers will be in your neighborhood tonight
X-WR-RELCALID:5c5dd06622a14fddd7b3ed2b660f72b4
X-WR-TIMEZONE:America/Denver
BEGIN:VTIMEZONE
TZID:America/Denver
BEGIN:STANDARD
TZNAME:MST
DTSTART:20171105T020000
TZOFFSETFROM:-0600
TZOFFSETTO:-0700
RDATE:20181104T020000
END:STANDARD
BEGIN:DAYLIGHT
TZNAME:MDT
DTSTART:20180311T020000
TZOFFSETFROM:-0700
TZOFFSETTO:-0600
RDATE:20190310T020000
END:DAYLIGHT
END:VTIMEZONE
BEGIN:VEVENT
UID:3141991f-3237-44d9-b3d9-7947281959b3
DTSTAMP:20260419T130602Z
DESCRIPTION:Canvassers will be in your neighborhood tonight
DTSTART;TZID=America/Denver:20180317T160000
DTEND;TZID=America/Denver:20180317T210000
LOCATION:Lone Tree
SUMMARY:80124:Canvassing
END:VEVENT
END:VCALENDAR
