BEGIN:VCALENDAR
VERSION:2.0
PRODID:-//thebluebench.org//NONSGML kigkonsult.se iCalcreator 2.30.10//
CALSCALE:GREGORIAN
METHOD:PUBLISH
UID:452c95fc-91a9-4433-bbb9-4f7a6b00e4fd
X-WR-CALDESC:Canvassers will be in your neighborhood tonight
X-WR-RELCALID:34ea0710a79fd51115e426b8576d8daa
X-WR-TIMEZONE:America/Denver
BEGIN:VTIMEZONE
TZID:America/Denver
BEGIN:STANDARD
TZNAME:MST
DTSTART:20171105T020000
TZOFFSETFROM:-0600
TZOFFSETTO:-0700
RDATE:20181104T020000
END:STANDARD
BEGIN:DAYLIGHT
TZNAME:MDT
DTSTART:20180311T020000
TZOFFSETFROM:-0700
TZOFFSETTO:-0600
RDATE:20190310T020000
END:DAYLIGHT
END:VTIMEZONE
BEGIN:VEVENT
UID:5aff48a3-be5c-4a8a-a2e1-8a2921b07025
DTSTAMP:20260419T130858Z
DESCRIPTION:Canvassers will be in your neighborhood tonight
DTSTART;TZID=America/Denver:20180319T160000
DTEND;TZID=America/Denver:20180319T210000
LOCATION:Thornton/Denver
SUMMARY:80241/80249: Canvassing
END:VEVENT
END:VCALENDAR
