BEGIN:VCALENDAR
VERSION:2.0
PRODID:-//thebluebench.org//NONSGML kigkonsult.se iCalcreator 2.30.10//
CALSCALE:GREGORIAN
METHOD:PUBLISH
UID:b9a8584c-e87d-40f8-805d-5634e4114d38
X-WR-CALDESC:Canvassers will be in your neighborhood tonight
X-WR-RELCALID:abe22d15102ad39659ad7a78a039b8a1
X-WR-TIMEZONE:America/Denver
BEGIN:VTIMEZONE
TZID:America/Denver
BEGIN:STANDARD
TZNAME:MST
DTSTART:20171105T020000
TZOFFSETFROM:-0600
TZOFFSETTO:-0700
RDATE:20181104T020000
END:STANDARD
BEGIN:DAYLIGHT
TZNAME:MDT
DTSTART:20180311T020000
TZOFFSETFROM:-0700
TZOFFSETTO:-0600
RDATE:20190310T020000
END:DAYLIGHT
END:VTIMEZONE
BEGIN:VEVENT
UID:c9b447c2-1e46-480d-bfb8-d25358af44be
DTSTAMP:20260419T131008Z
DESCRIPTION:Canvassers will be in your neighborhood tonight
DTSTART;TZID=America/Denver:20180320T160000
DTEND;TZID=America/Denver:20180320T210000
LOCATION:Denver
SUMMARY:80223:Canvassing
END:VEVENT
END:VCALENDAR
