BEGIN:VCALENDAR
VERSION:2.0
PRODID:-//thebluebench.org//NONSGML kigkonsult.se iCalcreator 2.30.10//
CALSCALE:GREGORIAN
METHOD:PUBLISH
UID:5ff78b9c-f500-4d1a-9bb1-22cfe1fc0e60
X-WR-CALDESC:Canvassers will be in your neighborhood tonight
X-WR-RELCALID:28462fb7ae0d3099d74ac809d7cfb9b3
X-WR-TIMEZONE:America/Denver
BEGIN:VTIMEZONE
TZID:America/Denver
BEGIN:STANDARD
TZNAME:MST
DTSTART:20171105T020000
TZOFFSETFROM:-0600
TZOFFSETTO:-0700
RDATE:20181104T020000
END:STANDARD
BEGIN:DAYLIGHT
TZNAME:MDT
DTSTART:20180311T020000
TZOFFSETFROM:-0700
TZOFFSETTO:-0600
RDATE:20190310T020000
END:DAYLIGHT
END:VTIMEZONE
BEGIN:VEVENT
UID:deb9246d-695f-4b93-b7a2-30a774596c89
DTSTAMP:20260419T130931Z
DESCRIPTION:Canvassers will be in your neighborhood tonight
DTSTART;TZID=America/Denver:20180321T160000
DTEND;TZID=America/Denver:20180321T210000
LOCATION:Denver
SUMMARY:80220:Canvassing
END:VEVENT
END:VCALENDAR
