BEGIN:VCALENDAR
VERSION:2.0
PRODID:-//thebluebench.org//NONSGML kigkonsult.se iCalcreator 2.30.10//
CALSCALE:GREGORIAN
METHOD:PUBLISH
UID:b32f4446-1f1b-4787-8699-39e0b11190db
X-WR-CALDESC:Canvassers will be in your neighborhood tonight
X-WR-RELCALID:02efce481a4892cdc3f3ced6e8451653
X-WR-TIMEZONE:America/Denver
BEGIN:VTIMEZONE
TZID:America/Denver
BEGIN:STANDARD
TZNAME:MST
DTSTART:20171105T020000
TZOFFSETFROM:-0600
TZOFFSETTO:-0700
RDATE:20181104T020000
END:STANDARD
BEGIN:DAYLIGHT
TZNAME:MDT
DTSTART:20180311T020000
TZOFFSETFROM:-0700
TZOFFSETTO:-0600
RDATE:20190310T020000
END:DAYLIGHT
END:VTIMEZONE
BEGIN:VEVENT
UID:96e44012-a425-42bb-bb5a-73470774da59
DTSTAMP:20260419T130601Z
DESCRIPTION:Canvassers will be in your neighborhood tonight
DTSTART;TZID=America/Denver:20180322T160000
DTEND;TZID=America/Denver:20180322T210000
LOCATION:Denver
SUMMARY:80249:Canvassing
END:VEVENT
END:VCALENDAR
