BEGIN:VCALENDAR
VERSION:2.0
PRODID:-//thebluebench.org//NONSGML kigkonsult.se iCalcreator 2.30.10//
CALSCALE:GREGORIAN
METHOD:PUBLISH
UID:f46de4a0-4428-48e9-a6ee-b8e353aaf328
X-WR-CALDESC:Canvassers will be in your neighborhood tonight
X-WR-RELCALID:8096c8fd10661f9c63848c6c62ce9b8d
X-WR-TIMEZONE:America/Denver
BEGIN:VTIMEZONE
TZID:America/Denver
BEGIN:STANDARD
TZNAME:MST
DTSTART:20171105T020000
TZOFFSETFROM:-0600
TZOFFSETTO:-0700
RDATE:20181104T020000
END:STANDARD
BEGIN:DAYLIGHT
TZNAME:MDT
DTSTART:20180311T020000
TZOFFSETFROM:-0700
TZOFFSETTO:-0600
RDATE:20190310T020000
END:DAYLIGHT
END:VTIMEZONE
BEGIN:VEVENT
UID:c10cc8ec-8fb8-4bf7-b26b-f34b2f54e1fb
DTSTAMP:20260419T130930Z
DESCRIPTION:Canvassers will be in your neighborhood tonight
DTSTART;TZID=America/Denver:20180323T160000
DTEND;TZID=America/Denver:20180323T210000
LOCATION:Aurora
SUMMARY:80010:Canvassing
END:VEVENT
END:VCALENDAR
