BEGIN:VCALENDAR
VERSION:2.0
PRODID:-//thebluebench.org//NONSGML kigkonsult.se iCalcreator 2.30.10//
CALSCALE:GREGORIAN
METHOD:PUBLISH
UID:15c5de19-877a-4cc3-8787-e7322786ba8d
X-WR-CALDESC:Join us for our next Someone I Love workshop for Secondary Sur
 vivors (friends\, partners\, family\, loved ones) of sexual assault surviv
 ors on March 24th from 9AM-12PM at our Denver Central Office. Light refres
 hments will be provided.\nPlease call for more information and to register
  for this workshop.\n\nSuggested donation: $15
X-WR-RELCALID:01398445727dd1a6b7f2025a186ee1c1
X-WR-TIMEZONE:America/Denver
BEGIN:VTIMEZONE
TZID:America/Denver
BEGIN:STANDARD
TZNAME:MST
DTSTART:20171105T020000
TZOFFSETFROM:-0600
TZOFFSETTO:-0700
RDATE:20181104T020000
END:STANDARD
BEGIN:DAYLIGHT
TZNAME:MDT
DTSTART:20180311T020000
TZOFFSETFROM:-0700
TZOFFSETTO:-0600
RDATE:20190310T020000
END:DAYLIGHT
END:VTIMEZONE
BEGIN:VEVENT
UID:574d9763-727f-4a7b-a8b5-29fcdf98e8c3
DTSTAMP:20260419T130724Z
DESCRIPTION:Join us for our next Someone I Love workshop for Secondary Surv
 ivors (friends\, partners\, family\, loved ones) of sexual assault survivo
 rs on March 24th from 9AM-12PM at our Denver Central Office. Light refresh
 ments will be provided.\nPlease call for more information and to register 
 for this workshop.\n\nSuggested donation: $15
DTSTART;TZID=America/Denver:20180324T090000
DTEND;TZID=America/Denver:20180324T120000
LOCATION:Denver Central Office
SUMMARY:Someone I Love Workshop
END:VEVENT
END:VCALENDAR
