BEGIN:VCALENDAR
VERSION:2.0
PRODID:-//thebluebench.org//NONSGML kigkonsult.se iCalcreator 2.30.10//
CALSCALE:GREGORIAN
METHOD:PUBLISH
UID:45ccf3e2-3b3c-4f79-8408-4e334ff6d95c
X-WR-CALDESC:Canvassers will be in your neighborhood tonight
X-WR-RELCALID:9fdf140dceea804c54ba3fa222066396
X-WR-TIMEZONE:America/Denver
BEGIN:VTIMEZONE
TZID:America/Denver
BEGIN:STANDARD
TZNAME:MST
DTSTART:20171105T020000
TZOFFSETFROM:-0600
TZOFFSETTO:-0700
RDATE:20181104T020000
END:STANDARD
BEGIN:DAYLIGHT
TZNAME:MDT
DTSTART:20180311T020000
TZOFFSETFROM:-0700
TZOFFSETTO:-0600
RDATE:20190310T020000
END:DAYLIGHT
END:VTIMEZONE
BEGIN:VEVENT
UID:64796886-3619-40e7-8dc7-87046beb5ba3
DTSTAMP:20260419T131251Z
DESCRIPTION:Canvassers will be in your neighborhood tonight
DTSTART;TZID=America/Denver:20180326T160000
DTEND;TZID=America/Denver:20180326T210000
LOCATION:Arvada
SUMMARY:80004/80003:Canvassing
END:VEVENT
END:VCALENDAR
