BEGIN:VCALENDAR
VERSION:2.0
PRODID:-//thebluebench.org//NONSGML kigkonsult.se iCalcreator 2.30.10//
CALSCALE:GREGORIAN
METHOD:PUBLISH
UID:3d559dda-bebf-44d7-85aa-3ea9027e853c
X-WR-CALDESC:Canvassers will be in your neighborhood tonight
X-WR-RELCALID:f1601391d8afc2f8e18ae25d9627461a
X-WR-TIMEZONE:America/Denver
BEGIN:VTIMEZONE
TZID:America/Denver
BEGIN:STANDARD
TZNAME:MST
DTSTART:20171105T020000
TZOFFSETFROM:-0600
TZOFFSETTO:-0700
RDATE:20181104T020000
END:STANDARD
BEGIN:DAYLIGHT
TZNAME:MDT
DTSTART:20180311T020000
TZOFFSETFROM:-0700
TZOFFSETTO:-0600
RDATE:20190310T020000
END:DAYLIGHT
END:VTIMEZONE
BEGIN:VEVENT
UID:e437d051-5661-4982-b1de-65d8154b1857
DTSTAMP:20260419T130345Z
DESCRIPTION:Canvassers will be in your neighborhood tonight
DTSTART;TZID=America/Denver:20180327T160000
DTEND;TZID=America/Denver:20180327T210000
LOCATION:Aurora
SUMMARY:80010:Canvassing
END:VEVENT
END:VCALENDAR
