BEGIN:VCALENDAR
VERSION:2.0
PRODID:-//thebluebench.org//NONSGML kigkonsult.se iCalcreator 2.30.10//
CALSCALE:GREGORIAN
METHOD:PUBLISH
UID:f813e44e-ed24-460e-aabc-11c065109b99
X-WR-CALDESC:Canvassers will be in your neighborhood tonight
X-WR-RELCALID:3c9c34f8c36ce2e95102429b4ad1547b
X-WR-TIMEZONE:America/Denver
BEGIN:VTIMEZONE
TZID:America/Denver
BEGIN:STANDARD
TZNAME:MST
DTSTART:20171105T020000
TZOFFSETFROM:-0600
TZOFFSETTO:-0700
RDATE:20181104T020000
END:STANDARD
BEGIN:DAYLIGHT
TZNAME:MDT
DTSTART:20180311T020000
TZOFFSETFROM:-0700
TZOFFSETTO:-0600
RDATE:20190310T020000
END:DAYLIGHT
END:VTIMEZONE
BEGIN:VEVENT
UID:89762c95-8c36-475c-a1e8-eb99c299aaaf
DTSTAMP:20260419T131251Z
DESCRIPTION:Canvassers will be in your neighborhood tonight
DTSTART;TZID=America/Denver:20180329T160000
DTEND;TZID=America/Denver:20180329T210000
LOCATION:Denver
SUMMARY:80220:Canvassing
END:VEVENT
END:VCALENDAR
