BEGIN:VCALENDAR
VERSION:2.0
PRODID:-//thebluebench.org//NONSGML kigkonsult.se iCalcreator 2.30.10//
CALSCALE:GREGORIAN
METHOD:PUBLISH
UID:cd937489-aed7-4247-a895-c6347d27f154
X-WR-CALDESC:Canvassers will be in your neighborhood tonight
X-WR-RELCALID:08a90a2b55f724385d8e767a078e25cf
X-WR-TIMEZONE:America/Denver
BEGIN:VTIMEZONE
TZID:America/Denver
BEGIN:STANDARD
TZNAME:MST
DTSTART:20171105T020000
TZOFFSETFROM:-0600
TZOFFSETTO:-0700
RDATE:20181104T020000
END:STANDARD
BEGIN:DAYLIGHT
TZNAME:MDT
DTSTART:20180311T020000
TZOFFSETFROM:-0700
TZOFFSETTO:-0600
RDATE:20190310T020000
END:DAYLIGHT
END:VTIMEZONE
BEGIN:VEVENT
UID:b14f5f78-8548-4991-8680-78db57a907e5
DTSTAMP:20260419T131841Z
DESCRIPTION:Canvassers will be in your neighborhood tonight
DTSTART;TZID=America/Denver:20180330T160000
DTEND;TZID=America/Denver:20180330T210000
LOCATION:Denver
SUMMARY:80249:Canvassing
END:VEVENT
END:VCALENDAR
