BEGIN:VCALENDAR
VERSION:2.0
PRODID:-//thebluebench.org//NONSGML kigkonsult.se iCalcreator 2.30.10//
CALSCALE:GREGORIAN
METHOD:PUBLISH
UID:ca13af32-8d03-475c-ab29-9151c6af1a59
X-WR-CALDESC:Canvassers will be in your neighborhood tonight
X-WR-RELCALID:c8664f884ce1b879343f1b53adf71010
X-WR-TIMEZONE:America/Denver
BEGIN:VTIMEZONE
TZID:America/Denver
BEGIN:STANDARD
TZNAME:MST
DTSTART:20171105T020000
TZOFFSETFROM:-0600
TZOFFSETTO:-0700
RDATE:20181104T020000
END:STANDARD
BEGIN:DAYLIGHT
TZNAME:MDT
DTSTART:20180311T020000
TZOFFSETFROM:-0700
TZOFFSETTO:-0600
RDATE:20190310T020000
END:DAYLIGHT
END:VTIMEZONE
BEGIN:VEVENT
UID:b2be225c-52d6-4fa1-bd1a-c97b2fe238a3
DTSTAMP:20260419T131405Z
DESCRIPTION:Canvassers will be in your neighborhood tonight
DTSTART;TZID=America/Denver:20180331T160000
DTEND;TZID=America/Denver:20180331T210000
LOCATION:Lone Tree
SUMMARY:80124:Canvassing
END:VEVENT
END:VCALENDAR
