BEGIN:VCALENDAR
VERSION:2.0
PRODID:-//thebluebench.org//NONSGML kigkonsult.se iCalcreator 2.30.10//
CALSCALE:GREGORIAN
METHOD:PUBLISH
UID:77b01d2d-ea83-4235-a0a7-91224790161e
X-WR-CALDESC:Canvassers will be in your neighborhood tonight
X-WR-RELCALID:3ac637dae29d0c2941e6f5b8e01bbb18
X-WR-TIMEZONE:America/Denver
BEGIN:VTIMEZONE
TZID:America/Denver
BEGIN:STANDARD
TZNAME:MST
DTSTART:20171105T020000
TZOFFSETFROM:-0600
TZOFFSETTO:-0700
RDATE:20181104T020000
END:STANDARD
BEGIN:DAYLIGHT
TZNAME:MDT
DTSTART:20180311T020000
TZOFFSETFROM:-0700
TZOFFSETTO:-0600
RDATE:20190310T020000
END:DAYLIGHT
END:VTIMEZONE
BEGIN:VEVENT
UID:00f81527-ee19-4d64-9135-24e3c4d7eae6
DTSTAMP:20260421T100808Z
DESCRIPTION:Canvassers will be in your neighborhood tonight
DTSTART;TZID=America/Denver:20180406T160000
DTEND;TZID=America/Denver:20180406T210000
LOCATION:Denver
SUMMARY:80249:Canvassing
END:VEVENT
END:VCALENDAR
