BEGIN:VCALENDAR
VERSION:2.0
PRODID:-//thebluebench.org//NONSGML kigkonsult.se iCalcreator 2.30.10//
CALSCALE:GREGORIAN
METHOD:PUBLISH
UID:b4b3464d-e9ac-4d5b-9f43-634a15d3005d
X-WR-CALDESC:It's time again for our annual The Blue Bench Thing--a fun eve
 nt with a serious mission! We spend 365 days a year working to end sexual 
 violence in our community\, but each April\, for Sexual Assault Awareness 
 Month\,  we gather to celebrate the progress we're making together.\n\nRou
 nd up your friends and join The Blue Bench for drinks\, hors d'oeuvres\, d
 rawings for incredible prizes (our lotto scratch ticket jar is BACK!)\, go
 rgeous views of the city from a cool venue and a special performance by Ji
 ll & Andy!\n\nAll proceeds will support therapy for sexual assault survivo
 rs and prevention education programs for students throughout metro Denver.
X-WR-RELCALID:1d859a2264cac95086489db0e4f0dd9a
X-WR-TIMEZONE:America/Denver
BEGIN:VTIMEZONE
TZID:America/Denver
BEGIN:STANDARD
TZNAME:MST
DTSTART:20171105T020000
TZOFFSETFROM:-0600
TZOFFSETTO:-0700
RDATE:20181104T020000
END:STANDARD
BEGIN:DAYLIGHT
TZNAME:MDT
DTSTART:20180311T020000
TZOFFSETFROM:-0700
TZOFFSETTO:-0600
RDATE:20190310T020000
END:DAYLIGHT
END:VTIMEZONE
BEGIN:VEVENT
UID:81479aeb-d487-4e21-a6c2-81a7cbd96529
DTSTAMP:20260421T100220Z
DESCRIPTION:It's time again for our annual The Blue Bench Thing--a fun even
 t with a serious mission! We spend 365 days a year working to end sexual v
 iolence in our community\, but each April\, for Sexual Assault Awareness M
 onth\,  we gather to celebrate the progress we're making together.\n\nRoun
 d up your friends and join The Blue Bench for drinks\, hors d'oeuvres\, dr
 awings for incredible prizes (our lotto scratch ticket jar is BACK!)\, gor
 geous views of the city from a cool venue and a special performance by Jil
 l & Andy!\n\nAll proceeds will support therapy for sexual assault survivor
 s and prevention education programs for students throughout metro Denver.
DTSTART;TZID=America/Denver:20180426T180000
DTEND;TZID=America/Denver:20180426T200000
LOCATION:Denver Field House
SUMMARY:The Blue Bench Thing
END:VEVENT
END:VCALENDAR
