BEGIN:VCALENDAR
VERSION:2.0
PRODID:-//thebluebench.org//NONSGML kigkonsult.se iCalcreator 2.30.10//
CALSCALE:GREGORIAN
METHOD:PUBLISH
UID:710662b9-1075-4e74-9a75-508b2672e63f
X-WR-CALDESC:This is a three-hour workshop for partners\, family and friend
 s (ages 17 years and older) of sexual assault survivors.\n\nTopics covered
  include:\n• Understanding trauma\n• Helping a loved one\n• What about me?
 \n\nThis workshop is NOT designed for survivors or service providers. \n\n
 $15 suggested contribution per participant
X-WR-RELCALID:b9fa8145be57ee7df1832017e5ba9988
X-WR-TIMEZONE:America/Denver
BEGIN:VTIMEZONE
TZID:America/Denver
BEGIN:STANDARD
TZNAME:MST
DTSTART:20211107T020000
TZOFFSETFROM:-0600
TZOFFSETTO:-0700
RDATE:20221106T020000
END:STANDARD
BEGIN:DAYLIGHT
TZNAME:MDT
DTSTART:20220313T020000
TZOFFSETFROM:-0700
TZOFFSETTO:-0600
RDATE:20230312T020000
END:DAYLIGHT
END:VTIMEZONE
BEGIN:VEVENT
UID:baf1a428-5af2-4f03-889f-c1afc1286415
DTSTAMP:20260421T194510Z
DESCRIPTION:This is a three-hour workshop for partners\, family and friends
  (ages 17 years and older) of sexual assault survivors.\n\nTopics covered 
 include:\n• Understanding trauma\n• Helping a loved one\n• What about me?
 \n\nThis workshop is NOT designed for survivors or service providers. \n\n
 $15 suggested contribution per participant
DTSTART;TZID=America/Denver:20220411T180000
DTEND;TZID=America/Denver:20220411T203000
LOCATION:Virtual via Zoom
SUMMARY:Someone I Love
END:VEVENT
END:VCALENDAR
