BEGIN:VCALENDAR
VERSION:2.0
PRODID:-//thebluebench.org//NONSGML kigkonsult.se iCalcreator 2.30.10//
CALSCALE:GREGORIAN
METHOD:PUBLISH
UID:e42645e6-64fc-42f6-8dc4-98a6cf7342c2
X-WR-CALDESC:Awakening is an independent sex and wellness boutique with the
  mission to create a safe\, inclusive\, fun\, and community-driven space f
 or people to learn about and explore their sexuality. \n\nSAAPM SPECIAL:\n
 The Blue Bench will receive a portion of the proceeds from Awakening Bouti
 que's Broadway in Denver and Fort Collins locations!\n\nDenver location: 3
 8 N Broadway\, Denver\, CO 80203\nFort Collins location: 112 E Olive St\, 
 Fort Collins\, CO 80524
X-WR-RELCALID:b1121aa7ae452750e0cf48cd02c43677
X-WR-TIMEZONE:America/Denver
BEGIN:VTIMEZONE
TZID:America/Denver
BEGIN:STANDARD
TZNAME:MST
DTSTART:20241103T020000
TZOFFSETFROM:-0600
TZOFFSETTO:-0700
RDATE:20251102T020000
END:STANDARD
BEGIN:DAYLIGHT
TZNAME:MDT
DTSTART:20250309T020000
TZOFFSETFROM:-0700
TZOFFSETTO:-0600
RDATE:20260308T020000
END:DAYLIGHT
END:VTIMEZONE
BEGIN:VEVENT
UID:8ff3fc10-51a7-43a7-9f27-556db8efb5de
DTSTAMP:20260420T035956Z
DESCRIPTION:Awakening is an independent sex and wellness boutique with the 
 mission to create a safe\, inclusive\, fun\, and community-driven space fo
 r people to learn about and explore their sexuality. \n\nSAAPM SPECIAL:\nT
 he Blue Bench will receive a portion of the proceeds from Awakening Boutiq
 ue's Broadway in Denver and Fort Collins locations!\n\nDenver location: 38
  N Broadway\, Denver\, CO 80203\nFort Collins location: 112 E Olive St\, F
 ort Collins\, CO 80524
DTSTART;TZID=America/Denver:20250401T040000
DTEND;TZID=America/Denver:20250430T040001
LOCATION:38 N Broadway\,  Denver\, CO 80203 US
SUMMARY:SAAPM: Awakening Boutique Giveback
END:VEVENT
END:VCALENDAR
