BEGIN:VCALENDAR
VERSION:2.0
PRODID:-//thebluebench.org//NONSGML kigkonsult.se iCalcreator 2.30.10//
CALSCALE:GREGORIAN
METHOD:PUBLISH
UID:e6ea441e-4246-43ea-9222-15d795cc7783
X-WR-CALDESC:Fort Greene is a hidden gem located in Denver’s Globeville nei
 ghborhood\, serving specialty cocktails and local beers. Make sure to chec
 k out their calendar of events for your next night out!\n\nSAAPM SPECIAL:
 \n$1 of each Night Queen will be donated back to The Blue Bench all month 
 long!
X-WR-RELCALID:cb8c9a9772103bffcb5ccbff70caa8d0
X-WR-TIMEZONE:America/Denver
BEGIN:VTIMEZONE
TZID:America/Denver
BEGIN:STANDARD
TZNAME:MST
DTSTART:20241103T020000
TZOFFSETFROM:-0600
TZOFFSETTO:-0700
RDATE:20251102T020000
END:STANDARD
BEGIN:DAYLIGHT
TZNAME:MDT
DTSTART:20250309T020000
TZOFFSETFROM:-0700
TZOFFSETTO:-0600
RDATE:20260308T020000
END:DAYLIGHT
END:VTIMEZONE
BEGIN:VEVENT
UID:80d9e324-d584-405b-bde8-ac9616422e2e
DTSTAMP:20260420T040200Z
DESCRIPTION:Fort Greene is a hidden gem located in Denver’s Globeville neig
 hborhood\, serving specialty cocktails and local beers. Make sure to check
  out their calendar of events for your next night out!\n\nSAAPM SPECIAL:\n
 $1 of each Night Queen will be donated back to The Blue Bench all month lo
 ng!
DTSTART;TZID=America/Denver:20250401T040000
DTEND;TZID=America/Denver:20250430T040001
LOCATION:321 E 45th Ave.\,  Denver\, CO 80216 US
SUMMARY:SAAPM: Fort Greene Giveback
END:VEVENT
END:VCALENDAR
