BEGIN:VCALENDAR
VERSION:2.0
PRODID:-//thebluebench.org//NONSGML kigkonsult.se iCalcreator 2.30.10//
CALSCALE:GREGORIAN
METHOD:PUBLISH
UID:2a6f047f-7c0f-499c-bcfd-97a5664628c1
X-WR-CALDESC:Petals & Pages is a queer & feminist independent bookstore and
  community space in Denver\, CO.\, voted the Best Bookstore in Denver in 2
 024 by 5280 Magazine.\n\nSAAPM SPECIAL:\n20% of sales from their specialty
  curated book list goes back to The Blue Bench!\n\nSAAPM Booklist by Petal
 s & Pages:\n- Know My Name by Chanel Miller\n- Saving Five: A Memoir of Ho
 pe by Amanda Nguyen\n- The Cost of Fear: Why Most Safety Advice Is Sexist 
 and How We Can Stop Gender-Based Violence by Meg Stone\n- Code of Silence:
  Sexual Misconduct by Federal Judges\, the Secret System That Protects The
 m\, and the Women - - Who Blew the Whistle by Lise Olsen\n- Written on the
  Body: Letters from Trans and Non-Binary Survivors of Sexual Assault and D
 omestic Violence by Lexie Bean\n- Men Who Hate Women: From Incels to Picku
 p Artists: The Truth about Extreme Misogyny and How It Affects Us All by L
 aura Bates\n- #MeToo and Literary Studies: Reading\, Writing\, and Teachin
 g About Sexual Violence and Rape Culture by Mary K. Holland and Heather He
 wett\n- Unbound: My Story of Liberation and the Birth of the Me Too Moveme
 nt by Tarana Burke\n- I'm Saying No! Standing Up Against Sexual Assault\, 
 Sexual Harassment\, and Sexual Pressure by Beverly Engel\n- Whatever Gets 
 You Through: Twelve Survivors on Life After Sexual Assault by Stacey May F
 owles and Jen Sookfong Lee
X-WR-RELCALID:31d940bb517c8d8575de38e798e52390
X-WR-TIMEZONE:America/Denver
BEGIN:VTIMEZONE
TZID:America/Denver
BEGIN:STANDARD
TZNAME:MST
DTSTART:20241103T020000
TZOFFSETFROM:-0600
TZOFFSETTO:-0700
RDATE:20251102T020000
END:STANDARD
BEGIN:DAYLIGHT
TZNAME:MDT
DTSTART:20250309T020000
TZOFFSETFROM:-0700
TZOFFSETTO:-0600
RDATE:20260308T020000
END:DAYLIGHT
END:VTIMEZONE
BEGIN:VEVENT
UID:af295e5a-0ed3-46a5-be10-9b4504e11367
DTSTAMP:20260420T040420Z
DESCRIPTION:Petals & Pages is a queer & feminist independent bookstore and 
 community space in Denver\, CO.\, voted the Best Bookstore in Denver in 20
 24 by 5280 Magazine.\n\nSAAPM SPECIAL:\n20% of sales from their specialty 
 curated book list goes back to The Blue Bench!\n\nSAAPM Booklist by Petals
  & Pages:\n- Know My Name by Chanel Miller\n- Saving Five: A Memoir of Hop
 e by Amanda Nguyen\n- The Cost of Fear: Why Most Safety Advice Is Sexist a
 nd How We Can Stop Gender-Based Violence by Meg Stone\n- Code of Silence: 
 Sexual Misconduct by Federal Judges\, the Secret System That Protects Them
 \, and the Women - - Who Blew the Whistle by Lise Olsen\n- Written on the 
 Body: Letters from Trans and Non-Binary Survivors of Sexual Assault and Do
 mestic Violence by Lexie Bean\n- Men Who Hate Women: From Incels to Pickup
  Artists: The Truth about Extreme Misogyny and How It Affects Us All by La
 ura Bates\n- #MeToo and Literary Studies: Reading\, Writing\, and Teaching
  About Sexual Violence and Rape Culture by Mary K. Holland and Heather Hew
 ett\n- Unbound: My Story of Liberation and the Birth of the Me Too Movemen
 t by Tarana Burke\n- I'm Saying No! Standing Up Against Sexual Assault\, S
 exual Harassment\, and Sexual Pressure by Beverly Engel\n- Whatever Gets Y
 ou Through: Twelve Survivors on Life After Sexual Assault by Stacey May Fo
 wles and Jen Sookfong Lee
DTSTART;TZID=America/Denver:20250401T040000
DTEND;TZID=America/Denver:20250430T040001
LOCATION:956 Santa Fe Dr\,  Denver\, CO 80204 US
SUMMARY:SAAPM: Petals & Pages Giveback
END:VEVENT
END:VCALENDAR
