BEGIN:VCALENDAR
VERSION:2.0
PRODID:-//thebluebench.org//NONSGML kigkonsult.se iCalcreator 2.30.10//
CALSCALE:GREGORIAN
METHOD:PUBLISH
UID:b5284b1c-cec8-4bbb-9a2d-e1ce2e9cff5f
X-WR-CALDESC:The Crypt\, which features punk rock\, horror film and grim re
 aper decorations throughout\, serves cocktails\, beer and wine and traditi
 onal bar food with a multitude of vegan options.\n\nSAAPM SPECIAL:\nRound 
 up change at check out! $1 from the Give Back cocktail goes back to The Bl
 ue Bench.
X-WR-RELCALID:50f5fc015061eed2b07e4ddc7fa0f40b
X-WR-TIMEZONE:America/Denver
BEGIN:VTIMEZONE
TZID:America/Denver
BEGIN:STANDARD
TZNAME:MST
DTSTART:20241103T020000
TZOFFSETFROM:-0600
TZOFFSETTO:-0700
RDATE:20251102T020000
END:STANDARD
BEGIN:DAYLIGHT
TZNAME:MDT
DTSTART:20250309T020000
TZOFFSETFROM:-0700
TZOFFSETTO:-0600
RDATE:20260308T020000
END:DAYLIGHT
END:VTIMEZONE
BEGIN:VEVENT
UID:bea38164-6e16-49d4-be37-74a30c9c8b14
DTSTAMP:20260420T035750Z
DESCRIPTION:The Crypt\, which features punk rock\, horror film and grim rea
 per decorations throughout\, serves cocktails\, beer and wine and traditio
 nal bar food with a multitude of vegan options.\n\nSAAPM SPECIAL:\nRound u
 p change at check out! $1 from the Give Back cocktail goes back to The Blu
 e Bench.
DTSTART;TZID=America/Denver:20250401T040000
DTEND;TZID=America/Denver:20250430T040001
LOCATION:1618 E 17th Ave\,  Denver\, CO 80218 US
SUMMARY:SAAPM: The Crypt Giveback
END:VEVENT
END:VCALENDAR
