BEGIN:VCALENDAR
VERSION:2.0
PRODID:-//thebluebench.org//NONSGML kigkonsult.se iCalcreator 2.30.10//
CALSCALE:GREGORIAN
METHOD:PUBLISH
UID:dbac25b4-f124-4cd2-a61b-5191ec08eacc
X-WR-CALDESC:Jennie and Sara hope that through their made-with-love cookies
  and beautiful packaging\, customers will be able to send a little love to
  the very special people in their lives.\n\nSAAPM SPECIAL:\n$1 from each B
 lue Raspberry cookie sold will be donated back to The Blue Bench all month
  long!
X-WR-RELCALID:0ca95bd22fc0a4363eeaddc4b678246a
X-WR-TIMEZONE:America/Denver
BEGIN:VTIMEZONE
TZID:America/Denver
BEGIN:STANDARD
TZNAME:MST
DTSTART:20241103T020000
TZOFFSETFROM:-0600
TZOFFSETTO:-0700
RDATE:20251102T020000
END:STANDARD
BEGIN:DAYLIGHT
TZNAME:MDT
DTSTART:20250309T020000
TZOFFSETFROM:-0700
TZOFFSETTO:-0600
RDATE:20260308T020000
END:DAYLIGHT
END:VTIMEZONE
BEGIN:VEVENT
UID:ceaeeaa9-2f92-435b-b21f-1f7337fb11b1
DTSTAMP:20260420T040226Z
DESCRIPTION:Jennie and Sara hope that through their made-with-love cookies 
 and beautiful packaging\, customers will be able to send a little love to 
 the very special people in their lives.\n\nSAAPM SPECIAL:\n$1 from each Bl
 ue Raspberry cookie sold will be donated back to The Blue Bench all month 
 long!
DTSTART;TZID=America/Denver:20250401T040000
DTEND;TZID=America/Denver:20250430T040001
LOCATION:2400 Curtis St.\,  Denver\, CO 80205 US
SUMMARY:SAAPM: The Flour Shop Giveback
END:VEVENT
END:VCALENDAR
