BEGIN:VCALENDAR
VERSION:2.0
PRODID:-//thebluebench.org//NONSGML kigkonsult.se iCalcreator 2.30.10//
CALSCALE:GREGORIAN
METHOD:PUBLISH
UID:70d68e15-7c41-49ab-871f-a8aff4639fe9
X-WR-CALDESC:Voodoo Doughnut offers a variety of imaginative and distinctiv
 e doughnut flavors and products!\n\nSAAPM SPECIAL:\nVisit VooDoo on Broadw
 ay and Colfax Thursday\, April 10 between 4:00 and 8:00 PM to donate a por
 tion of proceeds back to The Blue Bench\n\nBroadway location: 98 S Broadwa
 y\, Denver\, CO 80209\nColfax location: 1520 E Colfax Ave\, Denver\, CO 80
 218\n
X-WR-RELCALID:1f5defa7e31e6440786d2c329c1d08cc
X-WR-TIMEZONE:America/Denver
BEGIN:VTIMEZONE
TZID:America/Denver
BEGIN:STANDARD
TZNAME:MST
DTSTART:20241103T020000
TZOFFSETFROM:-0600
TZOFFSETTO:-0700
RDATE:20251102T020000
END:STANDARD
BEGIN:DAYLIGHT
TZNAME:MDT
DTSTART:20250309T020000
TZOFFSETFROM:-0700
TZOFFSETTO:-0600
RDATE:20260308T020000
END:DAYLIGHT
END:VTIMEZONE
BEGIN:VEVENT
UID:b27d3d12-7bee-4195-a094-82fda4cb210f
DTSTAMP:20260420T035924Z
DESCRIPTION:Voodoo Doughnut offers a variety of imaginative and distinctive
  doughnut flavors and products!\n\nSAAPM SPECIAL:\nVisit VooDoo on Broadwa
 y and Colfax Thursday\, April 10 between 4:00 and 8:00 PM to donate a port
 ion of proceeds back to The Blue Bench\n\nBroadway location: 98 S Broadway
 \, Denver\, CO 80209\nColfax location: 1520 E Colfax Ave\, Denver\, CO 802
 18\n
DTSTART;TZID=America/Denver:20250410T160000
DTEND;TZID=America/Denver:20250410T200000
LOCATION:98 S Broadway\,  Denver\, CO 80209 US
SUMMARY:SAAPM: VooDoo Doughnut Giveback
END:VEVENT
END:VCALENDAR
