BEGIN:VCALENDAR
VERSION:2.0
PRODID:-//thebluebench.org//NONSGML kigkonsult.se iCalcreator 2.30.10//
CALSCALE:GREGORIAN
METHOD:PUBLISH
UID:052e4222-0494-4dc8-95f1-d4ce99f212fc
X-WR-CALDESC:How you respond to the disclosure of sexual assault is critica
 l to a survivor's healing journey. The Blue Bench's upcoming webinar will 
 illustrate the importance of compassion\, patience\, and support as well a
 s a larger look at survivor experiences.\n\nWhen: April 16th from 12:00 - 
 1:00 PM\nWhere: Zoom - Registration required!
X-WR-RELCALID:31cf6ca735a4937a1c1323061fd72af7
X-WR-TIMEZONE:America/Denver
BEGIN:VTIMEZONE
TZID:America/Denver
BEGIN:STANDARD
TZNAME:MST
DTSTART:20241103T020000
TZOFFSETFROM:-0600
TZOFFSETTO:-0700
RDATE:20251102T020000
END:STANDARD
BEGIN:DAYLIGHT
TZNAME:MDT
DTSTART:20250309T020000
TZOFFSETFROM:-0700
TZOFFSETTO:-0600
RDATE:20260308T020000
END:DAYLIGHT
END:VTIMEZONE
BEGIN:VEVENT
UID:33971ee4-9a84-41bb-8ac9-1de87a5bdfef
DTSTAMP:20260420T035909Z
DESCRIPTION:How you respond to the disclosure of sexual assault is critical
  to a survivor's healing journey. The Blue Bench's upcoming webinar will i
 llustrate the importance of compassion\, patience\, and support as well as
  a larger look at survivor experiences.\n\nWhen: April 16th from 12:00 - 1
 :00 PM\nWhere: Zoom - Registration required!
DTSTART;TZID=America/Denver:20250416T120000
DTEND;TZID=America/Denver:20250416T130000
LOCATION:https://us06web.zoom.us/webinar/register/WN_h76PYYZ6SVW58NLcuXCraA
 #/registration
SUMMARY:Webinar: How to Respond When Someone Discloses Sexual Assault
END:VEVENT
END:VCALENDAR
