BEGIN:VCALENDAR
VERSION:2.0
PRODID:-//thebluebench.org//NONSGML kigkonsult.se iCalcreator 2.30.10//
CALSCALE:GREGORIAN
METHOD:PUBLISH
UID:ae773c4f-f9ec-40ca-b086-c02eaf562680
X-WR-CALDESC:The Blue Bench is here to help you gain insight into systemic 
 and cultural barriers faced by 2SLGBTQI+ survivors\, grow your awareness o
 f 2SLGBTQI+-specific resources\, and strengthen your practices for providi
 ng support.\n\nTopics include:\n- Media Representation & Cultural Attitude
 s\n- Unique Barriers and Challenges\n- Coping with and Healing from Trauma
 \n- Best Practices\n- Service Gaps & Further Action\n- Community resources
X-WR-RELCALID:40c583fed94236d5f5417842efeda0e7
X-WR-TIMEZONE:America/Denver
BEGIN:VTIMEZONE
TZID:America/Denver
BEGIN:STANDARD
TZNAME:MST
DTSTART:20241103T020000
TZOFFSETFROM:-0600
TZOFFSETTO:-0700
RDATE:20251102T020000
RDATE:20261101T020000
END:STANDARD
BEGIN:DAYLIGHT
TZNAME:MDT
DTSTART:20250309T020000
TZOFFSETFROM:-0700
TZOFFSETTO:-0600
RDATE:20260308T020000
END:DAYLIGHT
END:VTIMEZONE
BEGIN:VEVENT
UID:765234fd-a279-46e2-8a3e-cbf8c7c1becf
DTSTAMP:20260420T012043Z
DESCRIPTION:The Blue Bench is here to help you gain insight into systemic a
 nd cultural barriers faced by 2SLGBTQI+ survivors\, grow your awareness of
  2SLGBTQI+-specific resources\, and strengthen your practices for providin
 g support.\n\nTopics include:\n- Media Representation & Cultural Attitudes
 \n- Unique Barriers and Challenges\n- Coping with and Healing from Trauma
 \n- Best Practices\n- Service Gaps & Further Action\n- Community resources
DTSTART;TZID=America/Denver:20250611T120000
DTEND;TZID=America/Denver:20250611T130000
LOCATION:https://us06web.zoom.us/webinar/register/WN_8cnGSgosSUiYAD9FtL3W8w
SUMMARY:Webinar: Serving and Supporting 2SLGBTQI+ Survivors: How Intersecti
 ons of Identity Impact Individuals
END:VEVENT
END:VCALENDAR
