BEGIN:VCALENDAR
VERSION:2.0
PRODID:-//thebluebench.org//NONSGML kigkonsult.se iCalcreator 2.30.10//
CALSCALE:GREGORIAN
METHOD:PUBLISH
UID:4a29c18b-15aa-4fb9-95fd-ba3100da423f
X-WR-CALDESC:Youth Empowerment and Safety is an educational workshop design
 ed to equip parents\, caregivers\, and professionals who work with youth w
 ith the knowledge and tools to prevent sexual violence and protect childre
 n from harm.\n\nThis program addresses the realities of sexual assault\, c
 hild sexual abuse\, and exploitation—focusing on how adults can recognize 
 the warning signs\, create safe environments\, and have proactive\, age-ap
 propriate conversations with children. Participants also learn how to resp
 ond to suspicion and disclosures of abuse with care and connect families w
 ith critical support resources.\n\nParticipants will learn to:\n• Understa
 nd definitions of sexual abuse\, assault\, and exploitation\n• Recognize r
 ed flags and early warning signs of sexual abuse\n• Use effective strategi
 es to talk to children about consent and sexual violence\n• Take proactive
  steps to prevent sexual abuse and exploitation in homes\, schools\, and c
 ommunities and online\n• Respond supportively to discoveries or disclosure
  of abuse\n• Identify and access resources for survivors and their familie
 s\n\nThis training empowers adults to take an active role in protecting yo
 uth—building safer environments where children can thrive.\n\nPerfect for:
  Parents and youth-serving professionals.
X-WR-RELCALID:b279bc847d1fedc976bfaeb7b20e672a
X-WR-TIMEZONE:America/Denver
BEGIN:VTIMEZONE
TZID:America/Denver
BEGIN:STANDARD
TZNAME:MST
DTSTART:20241103T020000
TZOFFSETFROM:-0600
TZOFFSETTO:-0700
RDATE:20251102T020000
RDATE:20261101T020000
END:STANDARD
BEGIN:DAYLIGHT
TZNAME:MDT
DTSTART:20250309T020000
TZOFFSETFROM:-0700
TZOFFSETTO:-0600
RDATE:20260308T020000
END:DAYLIGHT
END:VTIMEZONE
BEGIN:VEVENT
UID:e1945a42-64db-4b7b-a6b3-7e56f7a366a9
DTSTAMP:20260420T012155Z
DESCRIPTION:Youth Empowerment and Safety is an educational workshop designe
 d to equip parents\, caregivers\, and professionals who work with youth wi
 th the knowledge and tools to prevent sexual violence and protect children
  from harm.\n\nThis program addresses the realities of sexual assault\, ch
 ild sexual abuse\, and exploitation—focusing on how adults can recognize t
 he warning signs\, create safe environments\, and have proactive\, age-app
 ropriate conversations with children. Participants also learn how to respo
 nd to suspicion and disclosures of abuse with care and connect families wi
 th critical support resources.\n\nParticipants will learn to:\n• Understan
 d definitions of sexual abuse\, assault\, and exploitation\n• Recognize re
 d flags and early warning signs of sexual abuse\n• Use effective strategie
 s to talk to children about consent and sexual violence\n• Take proactive 
 steps to prevent sexual abuse and exploitation in homes\, schools\, and co
 mmunities and online\n• Respond supportively to discoveries or disclosure 
 of abuse\n• Identify and access resources for survivors and their families
 \n\nThis training empowers adults to take an active role in protecting you
 th—building safer environments where children can thrive.\n\nPerfect for: 
 Parents and youth-serving professionals.
DTSTART;TZID=America/Denver:20250624T173000
DTEND;TZID=America/Denver:20250624T193000
LOCATION:https://us06web.zoom.us/meeting/register/5wsAaSKyQyWHRZv0IwBeaw
SUMMARY:Parent & Caregiver Virtual Training (Youth Empowerment and Safety)
END:VEVENT
END:VCALENDAR
