BEGIN:VCALENDAR
VERSION:2.0
PRODID:-//thebluebench.org//NONSGML kigkonsult.se iCalcreator 2.30.10//
CALSCALE:GREGORIAN
METHOD:PUBLISH
UID:056d009e-d4e3-48e5-9d64-e71fcfb0a635
X-WR-CALDESC:Join us for an education webinar on how to talk to children an
 d teens about consent\, boundaries\, and healthy relationships.\n\nLed by 
 our trained prevention educators\, this session offers tools\, language\, 
 and strategies to help you feel confident and supported in your role. Lear
 n age-appropriate ways to guide your child through these important topics\
 , starting from early childhood and continuing through the teen years.\n\n
 1. Learn how to teach consent confidently and effectively at home\, using 
 research-based prevention strategies.\n\n2. Walk away with practical tools
 \, age-appropriate language\, and confidence to start (and keep having) th
 ese important conversations.\n\n3. Designed for parents\, caregivers\, and
  adults who want to be trusted guides for young people.\n\n4. Informative\
 , accessible\, and grounded in real-life parenting moments.\n\n5. Facilita
 ted by experienced prevention educators trained in trauma-informed practic
 es and best practices in prevention.\n\nThis webinar is perfect for parent
 s\, caregivers\, and anyone who wants to raise safe\, respectful kids!\n
X-WR-RELCALID:f734abdfa1aa68e46e93b7ca8cd90065
X-WR-TIMEZONE:America/Denver
BEGIN:VTIMEZONE
TZID:America/Denver
BEGIN:STANDARD
TZNAME:MST
DTSTART:20241103T020000
TZOFFSETFROM:-0600
TZOFFSETTO:-0700
RDATE:20251102T020000
RDATE:20261101T020000
END:STANDARD
BEGIN:DAYLIGHT
TZNAME:MDT
DTSTART:20250309T020000
TZOFFSETFROM:-0700
TZOFFSETTO:-0600
RDATE:20260308T020000
END:DAYLIGHT
END:VTIMEZONE
BEGIN:VEVENT
UID:8ce2cef8-e0cf-4854-ab7e-4ff4e10e234a
DTSTAMP:20260419T212039Z
DESCRIPTION:Join us for an education webinar on how to talk to children and
  teens about consent\, boundaries\, and healthy relationships.\n\nLed by o
 ur trained prevention educators\, this session offers tools\, language\, a
 nd strategies to help you feel confident and supported in your role. Learn
  age-appropriate ways to guide your child through these important topics\,
  starting from early childhood and continuing through the teen years.\n\n1
 . Learn how to teach consent confidently and effectively at home\, using r
 esearch-based prevention strategies.\n\n2. Walk away with practical tools\
 , age-appropriate language\, and confidence to start (and keep having) the
 se important conversations.\n\n3. Designed for parents\, caregivers\, and 
 adults who want to be trusted guides for young people.\n\n4. Informative\,
  accessible\, and grounded in real-life parenting moments.\n\n5. Facilitat
 ed by experienced prevention educators trained in trauma-informed practice
 s and best practices in prevention.\n\nThis webinar is perfect for parents
 \, caregivers\, and anyone who wants to raise safe\, respectful kids!\n
DTSTART;TZID=America/Denver:20250910T120000
DTEND;TZID=America/Denver:20250910T130000
LOCATION:https://us06web.zoom.us/webinar/register/WN_BtvQLQAYQQujtmVY7fwOKQ
SUMMARY:Webinar: A Parent’s Guide to Talking About Consent and Healthy Boun
 daries
END:VEVENT
END:VCALENDAR
