BEGIN:VCALENDAR
VERSION:2.0
PRODID:-//thebluebench.org//NONSGML kigkonsult.se iCalcreator 2.30.10//
CALSCALE:GREGORIAN
METHOD:PUBLISH
UID:cab037ae-e108-4ce2-ac2d-ba3e409647af
X-WR-CALDESC:Join us Wednesday\, October 1st\, at Town Hall Collaborative\,
  a woman-owned community gathering space\, for a film screening and discus
 sion hosted by The Blue Bench\, metro Denver’s only comprehensive sexual a
 ssault prevention and survivor support center.\n\nOUTCRY: Alchemists of Ra
 ge is a 30-minute film following Chicago artist Whitney Bradshaw as she ph
 otographs women mid-scream in healing and cathartic group sessions where l
 ong-silenced stories conjure rage\, sorrow\, and joy. An activist and sexu
 al abuse survivor\, Whitney uses her art to fuel action for women’s rights
 \, culminating in a grassroots fight for abortion access in Ohio. The film
  offers a visceral rallying cry for the revolutionary power of women’s voi
 ces.\n\nThe film team is excited to be screening in Denver\, where part of
  the documentary was filmed. Director Clare Major and artist/producer/film
  participant Whitney Bradshaw will be there in person and take part in a p
 anel discussion and audience Q&A led by The Blue Bench.\n\nTickets are sli
 ding scale starting at $5\, with donations welcome and encouraged! Event p
 roceeds will support both the film's ongoing outreach & impact campaign an
 d also The Blue Bench's accessible\, survivor-centered support services an
 d empowering education.\n\nDoors open at 5:30PM for drinks + mingling\n\nF
 ilm starts at 7PM\n\nPanel discussion + Q&A at 7:30PM\n\n... ending with a
  group scream!\n\nWatch the film trailer below\, and we'll see you on Octo
 ber 1st!
X-WR-RELCALID:8821e60c00bf101b623680a982221ca6
X-WR-TIMEZONE:America/Denver
BEGIN:VTIMEZONE
TZID:America/Denver
BEGIN:STANDARD
TZNAME:MST
DTSTART:20241103T020000
TZOFFSETFROM:-0600
TZOFFSETTO:-0700
RDATE:20251102T020000
RDATE:20261101T020000
END:STANDARD
BEGIN:DAYLIGHT
TZNAME:MDT
DTSTART:20250309T020000
TZOFFSETFROM:-0700
TZOFFSETTO:-0600
RDATE:20260308T020000
RDATE:20270314T020000
END:DAYLIGHT
END:VTIMEZONE
BEGIN:VEVENT
UID:7d0f77f6-3428-4f0c-a05e-3dd0e6741bc0
DTSTAMP:20260419T194735Z
DESCRIPTION:Join us Wednesday\, October 1st\, at Town Hall Collaborative\, 
 a woman-owned community gathering space\, for a film screening and discuss
 ion hosted by The Blue Bench\, metro Denver’s only comprehensive sexual as
 sault prevention and survivor support center.\n\nOUTCRY: Alchemists of Rag
 e is a 30-minute film following Chicago artist Whitney Bradshaw as she pho
 tographs women mid-scream in healing and cathartic group sessions where lo
 ng-silenced stories conjure rage\, sorrow\, and joy. An activist and sexua
 l abuse survivor\, Whitney uses her art to fuel action for women’s rights\
 , culminating in a grassroots fight for abortion access in Ohio. The film 
 offers a visceral rallying cry for the revolutionary power of women’s voic
 es.\n\nThe film team is excited to be screening in Denver\, where part of 
 the documentary was filmed. Director Clare Major and artist/producer/film 
 participant Whitney Bradshaw will be there in person and take part in a pa
 nel discussion and audience Q&A led by The Blue Bench.\n\nTickets are slid
 ing scale starting at $5\, with donations welcome and encouraged! Event pr
 oceeds will support both the film's ongoing outreach & impact campaign and
  also The Blue Bench's accessible\, survivor-centered support services and
  empowering education.\n\nDoors open at 5:30PM for drinks + mingling\n\nFi
 lm starts at 7PM\n\nPanel discussion + Q&A at 7:30PM\n\n... ending with a 
 group scream!\n\nWatch the film trailer below\, and we'll see you on Octob
 er 1st!
DTSTART;TZID=America/Denver:20251001T173000
DTEND;TZID=America/Denver:20251001T200000
LOCATION:525 Santa Fe Dr\, Denver\, CO 80204 US
SUMMARY:Film Screening & Community Conversation: OUTCRY: Alchemists of Rage
END:VEVENT
END:VCALENDAR
