BEGIN:VCALENDAR
VERSION:2.0
PRODID:-//thebluebench.org//NONSGML kigkonsult.se iCalcreator 2.30.10//
CALSCALE:GREGORIAN
METHOD:PUBLISH
UID:a7f8bbda-b896-4a44-b217-0c56638ed504
X-WR-CALDESC:You can guide our next fundraising campaign\, share our missio
 n with local leaders\, and plan community events!\n\nEmail Carolyn Ferrick
  to join: Cferrick@thebluebench.org
X-WR-RELCALID:7282ffc0c6634b8d47fc8bec1aa19231
X-WR-TIMEZONE:America/Denver
BEGIN:VTIMEZONE
TZID:America/Denver
BEGIN:STANDARD
TZNAME:MST
DTSTART:20241103T020000
TZOFFSETFROM:-0600
TZOFFSETTO:-0700
RDATE:20251102T020000
RDATE:20261101T020000
END:STANDARD
BEGIN:DAYLIGHT
TZNAME:MDT
DTSTART:20250309T020000
TZOFFSETFROM:-0700
TZOFFSETTO:-0600
RDATE:20260308T020000
RDATE:20270314T020000
END:DAYLIGHT
END:VTIMEZONE
BEGIN:VEVENT
UID:1f2e01f5-8f61-4705-93cf-ed5e05a5f765
DTSTAMP:20260419T194833Z
DESCRIPTION:You can guide our next fundraising campaign\, share our mission
  with local leaders\, and plan community events!\n\nEmail Carolyn Ferrick 
 to join: Cferrick@thebluebench.org
DTSTART;TZID=America/Denver:20251013T160000
DTEND;TZID=America/Denver:20251013T170000
LOCATION:Contact Carolyn Ferrick to register!
SUMMARY:Fundraising Committee Meeting
END:VEVENT
END:VCALENDAR
